Package: RiboCrypt Version: 1.13.0 Command: E:\biocbuild\bbs-3.21-bioc\R\bin\R.exe CMD INSTALL RiboCrypt StartedAt: 2025-02-12 17:01:44 -0500 (Wed, 12 Feb 2025) EndedAt: 2025-02-12 17:03:08 -0500 (Wed, 12 Feb 2025) EllapsedTime: 83.4 seconds RetCode: 0 Status: OK