Package: Rhtslib Version: 3.5.0 Command: /home/biocbuild/R/R/bin/R CMD build --keep-empty-dirs --no-resave-data Rhtslib StartedAt: 2025-10-17 03:59:21 -0000 (Fri, 17 Oct 2025) EndedAt: 2025-10-17 04:01:41 -0000 (Fri, 17 Oct 2025) EllapsedTime: 140.1 seconds RetCode: 0 Status: OK PackageFile: Rhtslib_3.5.0.tar.gz PackageFileSize: 4.935 MiB