Package: Rhtslib Version: 3.3.1 Command: set _R_INSTALL_TIME_PATCHES_=no&& rm -rf Rhtslib.buildbin-libdir && mkdir Rhtslib.buildbin-libdir && E:\biocbuild\bbs-3.21-bioc\R\bin\R.exe CMD INSTALL --build --library=Rhtslib.buildbin-libdir Rhtslib_3.3.1.tar.gz StartedAt: 2025-02-04 08:45:41 -0500 (Tue, 04 Feb 2025) EndedAt: 2025-02-04 08:47:39 -0500 (Tue, 04 Feb 2025) EllapsedTime: 117.7 seconds RetCode: 0 Status: OK PackageFile: Rhtslib_3.3.1.zip PackageFileSize: 6.355 MiB