Package: Rhtslib Version: 3.3.1 Command: /home/biocbuild/bbs-3.21-bioc/R/bin/R CMD INSTALL Rhtslib StartedAt: 2025-02-03 15:12:54 -0500 (Mon, 03 Feb 2025) EndedAt: 2025-02-03 15:14:24 -0500 (Mon, 03 Feb 2025) EllapsedTime: 90.2 seconds RetCode: 0 Status: OK