Package: Rhtslib Version: 3.3.1 Command: /Library/Frameworks/R.framework/Resources/bin/R CMD INSTALL Rhtslib StartedAt: 2025-02-03 15:11:43 -0500 (Mon, 03 Feb 2025) EndedAt: 2025-02-03 15:12:37 -0500 (Mon, 03 Feb 2025) EllapsedTime: 53.3 seconds RetCode: 0 Status: OK