Package: Rhtslib Version: 3.3.1 Command: /home/biocbuild/R/R/bin/R CMD INSTALL Rhtslib StartedAt: 2025-01-29 19:34:13 -0000 (Wed, 29 Jan 2025) EndedAt: 2025-01-29 19:36:29 -0000 (Wed, 29 Jan 2025) EllapsedTime: 136.0 seconds RetCode: 0 Status: OK