Package: Rhdf5lib Version: 1.29.0 Command: E:\biocbuild\bbs-3.21-bioc\R\bin\R.exe CMD check --no-multiarch --install=check:Rhdf5lib.install-out.txt --library=E:\biocbuild\bbs-3.21-bioc\R\library --no-vignettes --timings Rhdf5lib_1.29.0.tar.gz StartedAt: 2025-02-17 04:29:27 -0500 (Mon, 17 Feb 2025) EndedAt: 2025-02-17 04:30:24 -0500 (Mon, 17 Feb 2025) EllapsedTime: 57.5 seconds RetCode: 0 Status: OK CheckDir: Rhdf5lib.Rcheck Warnings: 0