Package: Rhdf5lib Version: 1.29.0 Command: rm -rf Rhdf5lib.buildbin-libdir && mkdir Rhdf5lib.buildbin-libdir && E:\biocbuild\bbs-3.21-bioc\R\bin\R.exe CMD INSTALL --build --library=Rhdf5lib.buildbin-libdir Rhdf5lib_1.29.0.tar.gz StartedAt: 2025-02-17 08:18:01 -0500 (Mon, 17 Feb 2025) EndedAt: 2025-02-17 08:18:50 -0500 (Mon, 17 Feb 2025) EllapsedTime: 48.5 seconds RetCode: 0 Status: OK PackageFile: Rhdf5lib_1.29.0.zip PackageFileSize: 6.242 MiB