Package: Rhdf5lib Version: 1.31.1 Command: /home/biocbuild/bbs-3.22-bioc/R/bin/R CMD check --install=check:Rhdf5lib.install-out.txt --library=/home/biocbuild/bbs-3.22-bioc/R/site-library --timings Rhdf5lib_1.31.1.tar.gz StartedAt: 2025-10-25 03:22:05 -0400 (Sat, 25 Oct 2025) EndedAt: 2025-10-25 03:22:24 -0400 (Sat, 25 Oct 2025) EllapsedTime: 19.1 seconds RetCode: 0 Status: WARNINGS CheckDir: Rhdf5lib.Rcheck Warnings: 1