Package: Rhdf5lib Version: 1.29.0 Command: /Library/Frameworks/R.framework/Resources/bin/R CMD check --install=check:Rhdf5lib.install-out.txt --library=/Library/Frameworks/R.framework/Resources/library --no-vignettes --timings Rhdf5lib_1.29.0.tar.gz StartedAt: 2025-02-16 22:38:09 -0500 (Sun, 16 Feb 2025) EndedAt: 2025-02-16 22:38:36 -0500 (Sun, 16 Feb 2025) EllapsedTime: 27.0 seconds RetCode: 0 Status: WARNINGS CheckDir: Rhdf5lib.Rcheck Warnings: 1