Package: Rhdf5lib Version: 1.29.0 Command: /home/biocbuild/R/R/bin/R CMD check --install=check:Rhdf5lib.install-out.txt --library=/home/biocbuild/R/R/site-library --no-vignettes --timings Rhdf5lib_1.29.0.tar.gz StartedAt: 2025-01-28 14:31:30 -0000 (Tue, 28 Jan 2025) EndedAt: 2025-01-28 14:31:48 -0000 (Tue, 28 Jan 2025) EllapsedTime: 18.0 seconds RetCode: 0 Status: WARNINGS CheckDir: Rhdf5lib.Rcheck Warnings: 1