Package: RgnTX Version: 1.11.1 Command: /home/biocbuild/R/R/bin/R CMD build --keep-empty-dirs --no-resave-data RgnTX StartedAt: 2025-10-03 02:34:38 -0000 (Fri, 03 Oct 2025) EndedAt: 2025-10-03 02:37:34 -0000 (Fri, 03 Oct 2025) EllapsedTime: 176.1 seconds RetCode: 0 Status: OK PackageFile: RgnTX_1.11.1.tar.gz PackageFileSize: 3.774 MiB