Package: RgnTX Version: 1.11.1 Command: F:\biocbuild\bbs-3.22-bioc\R\bin\R.exe CMD INSTALL RgnTX StartedAt: 2025-08-14 17:03:26 -0400 (Thu, 14 Aug 2025) EndedAt: 2025-08-14 17:04:19 -0400 (Thu, 14 Aug 2025) EllapsedTime: 52.8 seconds RetCode: 0 Status: OK