Package: RgnTX Version: 1.11.0 Maintainer: Yue Wang MaintainerEmail: yue.wang19 at student.xjtlu.edu.cn git_url: https://git.bioconductor.org/packages/RgnTX git_branch: devel git_last_commit: d9971ab git_last_commit_date: 2025-04-15 12:52:17 -0400 (Tue, 15 Apr 2025)