Package: Rfastp Version: 1.17.0 Command: /Library/Frameworks/R.framework/Resources/bin/R CMD INSTALL Rfastp StartedAt: 2025-02-16 15:08:31 -0500 (Sun, 16 Feb 2025) EndedAt: 2025-02-16 15:09:52 -0500 (Sun, 16 Feb 2025) EllapsedTime: 80.5 seconds RetCode: 0 Status: OK