############################################################################## ############################################################################## ### ### Running command: ### ### /home/biocbuild/R/R/bin/R CMD INSTALL Repitools ### ############################################################################## ############################################################################## * installing to library ‘/home/biocbuild/R/R-4.5.0-devel_2024-11-24/site-library’ * installing *source* package ‘Repitools’ ... ** using staged installation ** libs using C compiler: ‘aarch64-unknown-linux-gnu-gcc (GCC) 14.2.0’ using C++ compiler: ‘aarch64-unknown-linux-gnu-g++ (GCC) 14.2.0’ /opt/ohpc/pub/compiler/gcc/14.2.0/bin/aarch64-unknown-linux-gnu-gcc -I"/home/biocbuild/R/R/include" -DNDEBUG -I/usr/local/include -D R_NO_REMAP -I. -fPIC -g -O2 -Wall -Werror=format-security -c const.c -o const.o /opt/ohpc/pub/compiler/gcc/14.2.0/bin/aarch64-unknown-linux-gnu-gcc -I"/home/biocbuild/R/R/include" -DNDEBUG -I/usr/local/include -D R_NO_REMAP -I. -fPIC -g -O2 -Wall -Werror=format-security -c hyp2f1.c -o hyp2f1.o /opt/ohpc/pub/compiler/gcc/14.2.0/bin/aarch64-unknown-linux-gnu-g++ -std=gnu++17 -I"/home/biocbuild/R/R/include" -DNDEBUG -I/usr/local/include -fPIC -g -O2 -Wall -Werror=format-security -DR_NO_REMAP -c mmeansd.cpp -o mmeansd.o In file included from /home/biocbuild/R/R/include/Rdefines.h:41, from mmeansd.cpp:10: mmeansd.cpp: In function ‘SEXPREC* moving_mean_sd(SEXP, SEXP, SEXP)’: mmeansd.cpp:49:20: error: ‘allocVector’ was not declared in this scope; did you mean ‘Rf_allocVector’? 49 | PROTECT( res = allocVector( REALSXP, nval * 3) ); | ^~~~~~~~~~~ /home/biocbuild/R/R/include/Rinternals.h:388:36: note: in definition of macro ‘PROTECT’ 388 | #define PROTECT(s) Rf_protect(s) | ^ make: *** [/home/biocbuild/R/R/etc/Makeconf:204: mmeansd.o] Error 1 ERROR: compilation failed for package ‘Repitools’ * removing ‘/home/biocbuild/R/R-4.5.0-devel_2024-11-24/site-library/Repitools’