Package: Repitools Version: 1.53.0 Command: /home/biocbuild/R/R/bin/R CMD build --keep-empty-dirs --no-resave-data Repitools StartedAt: 2025-01-29 01:37:59 -0000 (Wed, 29 Jan 2025) EndedAt: 2025-01-29 01:38:01 -0000 (Wed, 29 Jan 2025) EllapsedTime: 2.0 seconds RetCode: 1 Status: ERROR PackageFile: None PackageFileSize: NA