Package: RepViz Version: 1.23.0 Command: /Library/Frameworks/R.framework/Resources/bin/R CMD INSTALL RepViz StartedAt: 2025-02-03 15:27:22 -0500 (Mon, 03 Feb 2025) EndedAt: 2025-02-03 15:27:45 -0500 (Mon, 03 Feb 2025) EllapsedTime: 23.5 seconds RetCode: 0 Status: OK