Package: RepViz Version: 1.23.0 Command: /Library/Frameworks/R.framework/Resources/bin/R CMD INSTALL RepViz StartedAt: 2025-02-03 15:49:11 -0500 (Mon, 03 Feb 2025) EndedAt: 2025-02-03 15:49:18 -0500 (Mon, 03 Feb 2025) EllapsedTime: 6.7 seconds RetCode: 0 Status: OK