Package: RegionalST Version: 1.7.0 Command: /home/biocbuild/bbs-3.22-bioc/R/bin/R CMD INSTALL RegionalST StartedAt: 2025-10-13 15:59:16 -0400 (Mon, 13 Oct 2025) EndedAt: 2025-10-13 15:59:44 -0400 (Mon, 13 Oct 2025) EllapsedTime: 28.0 seconds RetCode: 0 Status: OK