Package: RegionalST Version: 1.7.0 Command: /home/biocbuild/bbs-3.22-bioc/R/bin/R CMD build --keep-empty-dirs --no-resave-data --md5 RegionalST StartedAt: 2025-10-13 19:38:11 -0400 (Mon, 13 Oct 2025) EndedAt: 2025-10-13 19:39:52 -0400 (Mon, 13 Oct 2025) EllapsedTime: 101.1 seconds RetCode: 0 Status: OK PackageFile: RegionalST_1.7.0.tar.gz PackageFileSize: 4.186 MiB