Package: RegionalST Version: 1.7.0 Command: rm -rf RegionalST.buildbin-libdir && mkdir RegionalST.buildbin-libdir && /Users/biocbuild/BBS/utils/build-universal.sh RegionalST_1.7.0.tar.gz /Library/Frameworks/R.framework/Resources/bin/R RegionalST.buildbin-libdir StartedAt: 2025-10-13 02:51:39 -0400 (Mon, 13 Oct 2025) EndedAt: 2025-10-13 02:52:22 -0400 (Mon, 13 Oct 2025) EllapsedTime: 42.7 seconds RetCode: 0 Status: OK PackageFile: RegionalST_1.7.0.tgz PackageFileSize: 3.983 MiB