Package: RegionalST Version: 1.5.8 Command: /home/biocbuild/R/R/bin/R CMD INSTALL RegionalST StartedAt: 2025-01-29 20:37:34 -0000 (Wed, 29 Jan 2025) EndedAt: 2025-01-29 20:38:11 -0000 (Wed, 29 Jan 2025) EllapsedTime: 36.6 seconds RetCode: 0 Status: OK