Package: RegEnrich Version: 1.19.0 Command: chmod a+r RegEnrich -R && F:\biocbuild\bbs-3.22-bioc\R\bin\R.exe CMD build --keep-empty-dirs --no-resave-data RegEnrich StartedAt: 2025-08-14 22:41:45 -0400 (Thu, 14 Aug 2025) EndedAt: 2025-08-14 22:48:00 -0400 (Thu, 14 Aug 2025) EllapsedTime: 374.6 seconds RetCode: 0 Status: OK PackageFile: RegEnrich_1.19.0.tar.gz PackageFileSize: 1.137 MiB