Package: RegEnrich Version: 1.19.0 Command: /home/biocbuild/bbs-3.22-bioc/R/bin/R CMD INSTALL RegEnrich StartedAt: 2025-10-03 15:43:08 -0400 (Fri, 03 Oct 2025) EndedAt: 2025-10-03 15:43:44 -0400 (Fri, 03 Oct 2025) EllapsedTime: 36.1 seconds RetCode: 0 Status: OK