Package: RegEnrich Version: 1.19.0 Command: /home/biocbuild/bbs-3.22-bioc/R/bin/R CMD build --keep-empty-dirs --no-resave-data --md5 RegEnrich StartedAt: 2025-10-03 19:32:30 -0400 (Fri, 03 Oct 2025) EndedAt: 2025-10-03 19:37:04 -0400 (Fri, 03 Oct 2025) EllapsedTime: 274.3 seconds RetCode: 0 Status: OK PackageFile: RegEnrich_1.19.0.tar.gz PackageFileSize: 1.138 MiB