Package: ReducedExperiment Version: 0.99.6 Command: chmod a+r ReducedExperiment -R && E:\biocbuild\bbs-3.21-bioc\R\bin\R.exe CMD build --keep-empty-dirs --no-resave-data ReducedExperiment StartedAt: 2025-02-05 21:12:56 -0500 (Wed, 05 Feb 2025) EndedAt: 2025-02-05 21:16:14 -0500 (Wed, 05 Feb 2025) EllapsedTime: 198.1 seconds RetCode: 0 Status: OK PackageFile: ReducedExperiment_0.99.6.tar.gz PackageFileSize: 1.723 MiB