##############################################################################
##############################################################################
###
### Running command:
###
###   /home/biocbuild/bbs-3.21-bioc/R/bin/R CMD build --keep-empty-dirs --no-resave-data ReducedExperiment
###
##############################################################################
##############################################################################


* checking for file ‘ReducedExperiment/DESCRIPTION’ ... OK
* preparing ‘ReducedExperiment’:
* checking DESCRIPTION meta-information ... OK
* installing the package to build vignettes
* creating vignettes ... OK
* checking for LF line-endings in source and make files and shell scripts
* checking for empty or unneeded directories
* building ‘ReducedExperiment_0.99.6.tar.gz’