Package: ReducedExperiment
Version: 0.99.6
Command: /Library/Frameworks/R.framework/Resources/bin/R CMD INSTALL ReducedExperiment
StartedAt: 2025-02-17 15:33:08 -0500 (Mon, 17 Feb 2025)
EndedAt: 2025-02-17 15:33:54 -0500 (Mon, 17 Feb 2025)
EllapsedTime: 46.3 seconds
RetCode: 0
Status: OK