Package: ReducedExperiment Version: 0.99.6 Command: /Library/Frameworks/R.framework/Resources/bin/R CMD check --install=check:ReducedExperiment.install-out.txt --library=/Library/Frameworks/R.framework/Resources/library --no-vignettes --timings ReducedExperiment_0.99.6.tar.gz StartedAt: 2025-02-05 22:43:00 -0500 (Wed, 05 Feb 2025) EndedAt: 2025-02-05 22:50:05 -0500 (Wed, 05 Feb 2025) EllapsedTime: 424.8 seconds RetCode: 0 Status: OK CheckDir: ReducedExperiment.Rcheck Warnings: 0