Package: ReducedExperiment Version: 1.1.1 Command: /Library/Frameworks/R.framework/Resources/bin/R CMD build --keep-empty-dirs --no-resave-data ReducedExperiment StartedAt: 2025-05-06 18:04:45 -0400 (Tue, 06 May 2025) EndedAt: 2025-05-06 18:06:39 -0400 (Tue, 06 May 2025) EllapsedTime: 114.2 seconds RetCode: 0 Status: OK PackageFile: ReducedExperiment_1.1.1.tar.gz PackageFileSize: 2.751 MiB