Package: ReducedExperiment Version: 1.1.1 Command: rm -rf ReducedExperiment.buildbin-libdir && mkdir ReducedExperiment.buildbin-libdir && /Users/biocbuild/BBS/utils/build-universal.sh ReducedExperiment_1.1.1.tar.gz /Library/Frameworks/R.framework/Resources/bin/R ReducedExperiment.buildbin-libdir StartedAt: 2025-05-07 01:00:53 -0400 (Wed, 07 May 2025) EndedAt: 2025-05-07 01:01:43 -0400 (Wed, 07 May 2025) EllapsedTime: 50.7 seconds RetCode: 0 Status: OK PackageFile: ReducedExperiment_1.1.1.tgz PackageFileSize: 3.517 MiB