Package: ReducedExperiment Version: 1.1.1 Command: /Library/Frameworks/R.framework/Resources/bin/R CMD INSTALL ReducedExperiment StartedAt: 2025-05-08 15:21:37 -0400 (Thu, 08 May 2025) EndedAt: 2025-05-08 15:21:53 -0400 (Thu, 08 May 2025) EllapsedTime: 15.6 seconds RetCode: 0 Status: OK