Package: ReducedExperiment Version: 1.1.1 Command: /Library/Frameworks/R.framework/Resources/bin/R CMD check --install=check:ReducedExperiment.install-out.txt --library=/Library/Frameworks/R.framework/Resources/library --no-vignettes --timings ReducedExperiment_1.1.1.tar.gz StartedAt: 2025-05-08 21:28:28 -0400 (Thu, 08 May 2025) EndedAt: 2025-05-08 21:28:32 -0400 (Thu, 08 May 2025) EllapsedTime: 4.1 seconds RetCode: 1 Status: ERROR CheckDir: ReducedExperiment.Rcheck Warnings: NA