Package: ReducedExperiment Version: 1.1.1 Command: /Library/Frameworks/R.framework/Resources/bin/R CMD build --keep-empty-dirs --no-resave-data ReducedExperiment StartedAt: 2025-05-08 17:26:29 -0400 (Thu, 08 May 2025) EndedAt: 2025-05-08 17:27:23 -0400 (Thu, 08 May 2025) EllapsedTime: 53.6 seconds RetCode: 0 Status: OK PackageFile: ReducedExperiment_1.1.1.tar.gz PackageFileSize: 2.751 MiB