Package: RedeR Version: 3.5.0 Command: rm -rf RedeR.buildbin-libdir && mkdir RedeR.buildbin-libdir && F:\biocbuild\bbs-3.22-bioc\R\bin\R.exe CMD INSTALL --build --library=RedeR.buildbin-libdir RedeR_3.5.0.tar.gz StartedAt: 2025-08-15 11:05:48 -0400 (Fri, 15 Aug 2025) EndedAt: 2025-08-15 11:06:31 -0400 (Fri, 15 Aug 2025) EllapsedTime: 42.8 seconds RetCode: 0 Status: OK PackageFile: RedeR_3.5.0.zip PackageFileSize: 3.631 MiB