Package: RedeR Version: 3.5.0 Maintainer: Mauro Castro MaintainerEmail: mauro.a.castro at gmail.com git_url: https://git.bioconductor.org/packages/RedeR git_branch: devel git_last_commit: 1473f33 git_last_commit_date: 2025-04-15 10:09:16 -0400 (Tue, 15 Apr 2025)