Package: ReadqPCR Version: 1.53.0 Command: rm -rf ReadqPCR.buildbin-libdir && mkdir ReadqPCR.buildbin-libdir && E:\biocbuild\bbs-3.21-bioc\R\bin\R.exe CMD INSTALL --build --library=ReadqPCR.buildbin-libdir ReadqPCR_1.53.0.tar.gz StartedAt: 2025-02-04 08:43:41 -0500 (Tue, 04 Feb 2025) EndedAt: 2025-02-04 08:44:00 -0500 (Tue, 04 Feb 2025) EllapsedTime: 18.8 seconds RetCode: 0 Status: OK PackageFile: ReadqPCR_1.53.0.zip PackageFileSize: 461.8 KiB