Package: ReadqPCR Version: 1.53.0 Command: /home/biocbuild/bbs-3.21-bioc/R/bin/R CMD INSTALL ReadqPCR StartedAt: 2025-02-05 15:12:41 -0500 (Wed, 05 Feb 2025) EndedAt: 2025-02-05 15:12:44 -0500 (Wed, 05 Feb 2025) EllapsedTime: 3.1 seconds RetCode: 0 Status: OK