Package: ReadqPCR Version: 1.53.0 Command: /home/biocbuild/bbs-3.21-bioc/R/bin/R CMD check --install=check:ReadqPCR.install-out.txt --library=/home/biocbuild/bbs-3.21-bioc/R/site-library --timings ReadqPCR_1.53.0.tar.gz StartedAt: 2025-02-03 01:37:15 -0500 (Mon, 03 Feb 2025) EndedAt: 2025-02-03 01:37:45 -0500 (Mon, 03 Feb 2025) EllapsedTime: 30.2 seconds RetCode: 0 Status: OK CheckDir: ReadqPCR.Rcheck Warnings: 0