Package: ReadqPCR Version: 1.53.0 Command: /home/biocbuild/bbs-3.21-bioc/R/bin/R CMD build --keep-empty-dirs --no-resave-data ReadqPCR StartedAt: 2025-02-05 18:52:03 -0500 (Wed, 05 Feb 2025) EndedAt: 2025-02-05 18:52:12 -0500 (Wed, 05 Feb 2025) EllapsedTime: 8.0 seconds RetCode: 0 Status: OK PackageFile: ReadqPCR_1.53.0.tar.gz PackageFileSize: 490.6 KiB