Package: ReadqPCR Version: 1.53.0 Command: /Library/Frameworks/R.framework/Resources/bin/R CMD INSTALL ReadqPCR StartedAt: 2025-02-02 15:05:05 -0500 (Sun, 02 Feb 2025) EndedAt: 2025-02-02 15:05:33 -0500 (Sun, 02 Feb 2025) EllapsedTime: 27.9 seconds RetCode: 0 Status: OK