Package: ReadqPCR Version: 1.53.0 Command: /Library/Frameworks/R.framework/Resources/bin/R CMD check --install=check:ReadqPCR.install-out.txt --library=/Library/Frameworks/R.framework/Resources/library --no-vignettes --timings ReadqPCR_1.53.0.tar.gz StartedAt: 2025-02-02 22:34:53 -0500 (Sun, 02 Feb 2025) EndedAt: 2025-02-02 22:35:32 -0500 (Sun, 02 Feb 2025) EllapsedTime: 39.2 seconds RetCode: 0 Status: OK CheckDir: ReadqPCR.Rcheck Warnings: 0