Package: ReadqPCR Version: 1.53.0 Command: rm -rf ReadqPCR.buildbin-libdir && mkdir ReadqPCR.buildbin-libdir && /Users/biocbuild/BBS/utils/build-universal.sh ReadqPCR_1.53.0.tar.gz /Library/Frameworks/R.framework/Resources/bin/R ReadqPCR.buildbin-libdir StartedAt: 2025-02-03 00:40:02 -0500 (Mon, 03 Feb 2025) EndedAt: 2025-02-03 00:40:10 -0500 (Mon, 03 Feb 2025) EllapsedTime: 8.1 seconds RetCode: 0 Status: OK PackageFile: ReadqPCR_1.53.0.tgz PackageFileSize: 567.5 KiB