Package: ReadqPCR Version: 1.53.0 Command: /home/biocbuild/R/R/bin/R CMD check --install=check:ReadqPCR.install-out.txt --library=/home/biocbuild/R/R/site-library --no-vignettes --timings ReadqPCR_1.53.0.tar.gz StartedAt: 2025-01-28 14:23:18 -0000 (Tue, 28 Jan 2025) EndedAt: 2025-01-28 14:23:48 -0000 (Tue, 28 Jan 2025) EllapsedTime: 30.1 seconds RetCode: 0 Status: OK CheckDir: ReadqPCR.Rcheck Warnings: 0