Package: ReactomePA Version: 1.53.0 Command: /home/biocbuild/R/R/bin/R CMD INSTALL ReactomePA StartedAt: 2025-10-16 22:14:20 -0000 (Thu, 16 Oct 2025) EndedAt: 2025-10-16 22:14:52 -0000 (Thu, 16 Oct 2025) EllapsedTime: 31.7 seconds RetCode: 0 Status: OK