Package: ReactomePA Version: 1.53.0 Command: /Library/Frameworks/R.framework/Resources/bin/R CMD INSTALL ReactomePA StartedAt: 2025-05-08 15:37:19 -0400 (Thu, 08 May 2025) EndedAt: 2025-05-08 15:37:50 -0400 (Thu, 08 May 2025) EllapsedTime: 30.6 seconds RetCode: 0 Status: OK