Package: ReactomePA Version: 1.53.0 Command: rm -rf ReactomePA.buildbin-libdir && mkdir ReactomePA.buildbin-libdir && /Users/biocbuild/BBS/utils/build-universal.sh ReactomePA_1.53.0.tar.gz /Library/Frameworks/R.framework/Resources/bin/R ReactomePA.buildbin-libdir StartedAt: 2025-05-10 01:03:57 -0400 (Sat, 10 May 2025) EndedAt: 2025-05-10 01:04:30 -0400 (Sat, 10 May 2025) EllapsedTime: 33.6 seconds RetCode: 0 Status: OK PackageFile: ReactomePA_1.53.0.tgz PackageFileSize: 92.73 KiB