Package: ReactomePA Version: 1.53.0 Command: /Library/Frameworks/R.framework/Resources/bin/R CMD check --install=check:ReactomePA.install-out.txt --library=/Library/Frameworks/R.framework/Resources/library --no-vignettes --timings ReactomePA_1.53.0.tar.gz StartedAt: 2025-05-09 21:16:42 -0400 (Fri, 09 May 2025) EndedAt: 2025-05-09 21:18:21 -0400 (Fri, 09 May 2025) EllapsedTime: 98.4 seconds RetCode: 0 Status: OK CheckDir: ReactomePA.Rcheck Warnings: 0