Package: ReactomePA Version: 1.53.0 Command: /Library/Frameworks/R.framework/Resources/bin/R CMD build --keep-empty-dirs --no-resave-data ReactomePA StartedAt: 2025-05-09 17:29:07 -0400 (Fri, 09 May 2025) EndedAt: 2025-05-09 17:29:21 -0400 (Fri, 09 May 2025) EllapsedTime: 14.2 seconds RetCode: 0 Status: OK PackageFile: ReactomePA_1.53.0.tar.gz PackageFileSize: 57.19 KiB